

BEGIN:VCALENDAR
PRODID:-//snudd.se// event //EN
VERSION:2.0
lika<br>
    
BEGIN:VEVENT

DTSTART:20120426T094500Z
DTEND:20120426T094700Z
SUMMARY;ENCODING=QUOTED-PRINTABLE:Noras och Linus soppteater (OBS test!)
URL:http://eventellus.com/event.asp?intActivityId=318825&intActivityTimeId=644751&from=icalone
LOCATION;ENCODING=QUOTED-PRINTABLE:Sweden->Stockholm->Boulevardteatern
DESCRIPTION:http://eventellus.com/event.asp?intActivityId=318825&intActivityTimeId=644751&from=icalone
UID:644751_activitytime@eventellus.com
TRANSP:OPAQUE
END:VEVENT


END:VCALENDAR
