

BEGIN:VCALENDAR
PRODID:-//snudd.se// event //EN
VERSION:2.0
lika<br>
    
BEGIN:VEVENT

DTSTART:20120413T180000Z
DTEND:20120413T194500Z
SUMMARY;ENCODING=QUOTED-PRINTABLE:Malm=F6 FF - Kalmar FF
URL:http://eventellus.com/event.asp?intActivityId=319727&intActivityTimeId=645895&from=icalone
LOCATION;ENCODING=QUOTED-PRINTABLE:Sweden->Malm=F6->Swedbank Stadion
DESCRIPTION:http://eventellus.com/event.asp?intActivityId=319727&intActivityTimeId=645895&from=icalone
UID:645895_activitytime@eventellus.com
TRANSP:OPAQUE
END:VEVENT


END:VCALENDAR
