

BEGIN:VCALENDAR
PRODID:-//snudd.se// event //EN
VERSION:2.0
lika<br>
    
BEGIN:VEVENT

DTSTART:20120523T180000Z
DTEND:20120523T194500Z
SUMMARY;ENCODING=QUOTED-PRINTABLE:Helsingborgs IF - Djurg=E5rden
URL:http://eventellus.com/event.asp?intActivityId=319795&intActivityTimeId=645963&from=icalone
LOCATION;ENCODING=QUOTED-PRINTABLE:Sweden->Helsingborg->Olympiaf=E4ltet
DESCRIPTION:http://eventellus.com/event.asp?intActivityId=319795&intActivityTimeId=645963&from=icalone
UID:645963_activitytime@eventellus.com
TRANSP:OPAQUE
END:VEVENT


END:VCALENDAR
