

BEGIN:VCALENDAR
PRODID:-//snudd.se// event //EN
VERSION:2.0
lika<br>
    
BEGIN:VEVENT

DTSTART;VALUE=DATE:2012-10-21
DTEND;VALUE=DATE:2012-10-22
SUMMARY;ENCODING=QUOTED-PRINTABLE:Helsingborgs IF - =D6rebro
URL:http://eventellus.com/event.asp?intActivityId=319912&intActivityTimeId=646080&from=icalone
LOCATION;ENCODING=QUOTED-PRINTABLE:Sweden->Helsingborg->Olympiaf=E4ltet
DESCRIPTION:http://eventellus.com/event.asp?intActivityId=319912&intActivityTimeId=646080&from=icalone
UID:646080_activitytime@eventellus.com
TRANSP:OPAQUE
END:VEVENT


END:VCALENDAR
