

BEGIN:VCALENDAR
PRODID:-//snudd.se// event //EN
VERSION:2.0
lika<br>
    
BEGIN:VEVENT

DTSTART:20120409T160000Z
DTEND:20120409T174500Z
SUMMARY;ENCODING=QUOTED-PRINTABLE:Jitex BK - LdB FC Malm=F6
URL:http://eventellus.com/event.asp?intActivityId=320142&intActivityTimeId=646442&from=icalone
LOCATION;ENCODING=QUOTED-PRINTABLE:Sweden->G=F6teborg->Valhalla IP
DESCRIPTION:http://eventellus.com/event.asp?intActivityId=320142&intActivityTimeId=646442&from=icalone
UID:646442_activitytime@eventellus.com
TRANSP:OPAQUE
END:VEVENT


END:VCALENDAR
