

BEGIN:VCALENDAR
PRODID:-//snudd.se// event //EN
VERSION:2.0
lika<br>
    
BEGIN:VEVENT

DTSTART:20120823T170000Z
DTEND:20120823T184500Z
SUMMARY;ENCODING=QUOTED-PRINTABLE:Vittsj=F6 GIK - Kristianstads DFF
URL:http://eventellus.com/event.asp?intActivityId=320216&intActivityTimeId=646516&from=icalone
LOCATION;ENCODING=QUOTED-PRINTABLE:Sweden->H=E4ssleholm->Vittsj=F6 IP
DESCRIPTION:http://eventellus.com/event.asp?intActivityId=320216&intActivityTimeId=646516&from=icalone
UID:646516_activitytime@eventellus.com
TRANSP:OPAQUE
END:VEVENT


END:VCALENDAR
