

BEGIN:VCALENDAR
PRODID:-//snudd.se// event //EN
VERSION:2.0
lika<br>
    
BEGIN:VEVENT

DTSTART:20120922T140000Z
DTEND:20120922T154500Z
SUMMARY;ENCODING=QUOTED-PRINTABLE:Kopparbergs/G=F6teborg FC - Kristianstads DFF
URL:http://eventellus.com/event.asp?intActivityId=320234&intActivityTimeId=646534&from=icalone
LOCATION;ENCODING=QUOTED-PRINTABLE:Sweden->G=F6teborg->Valhalla IP
DESCRIPTION:http://eventellus.com/event.asp?intActivityId=320234&intActivityTimeId=646534&from=icalone
UID:646534_activitytime@eventellus.com
TRANSP:OPAQUE
END:VEVENT


END:VCALENDAR
