

BEGIN:VCALENDAR
PRODID:-//snudd.se// event //EN
VERSION:2.0
lika<br>
    
BEGIN:VEVENT

DTSTART;VALUE=DATE:2012-11-03
DTEND;VALUE=DATE:2012-11-04
SUMMARY;ENCODING=QUOTED-PRINTABLE:Link=F6pings FC - Ume=E5 IK FF
URL:http://eventellus.com/event.asp?intActivityId=320269&intActivityTimeId=646569&from=icalone
LOCATION;ENCODING=QUOTED-PRINTABLE:Sweden->Link=F6ping->Folkungavallen A
DESCRIPTION:http://eventellus.com/event.asp?intActivityId=320269&intActivityTimeId=646569&from=icalone
UID:646569_activitytime@eventellus.com
TRANSP:OPAQUE
END:VEVENT


END:VCALENDAR
