

BEGIN:VCALENDAR
PRODID:-//snudd.se// event //EN
VERSION:2.0
lika<br>
    
BEGIN:VEVENT

DTSTART:20120927T183000Z
DTEND:20120927T201500Z
SUMMARY;ENCODING=QUOTED-PRINTABLE:=D6sters IF - Lindsdals IF
URL:http://eventellus.com/event.asp?intActivityId=320522&intActivityTimeId=646954&from=icalone
LOCATION;ENCODING=QUOTED-PRINTABLE:Sweden->V=E4xj=F6->V=E4rendsvallen
DESCRIPTION:http://eventellus.com/event.asp?intActivityId=320522&intActivityTimeId=646954&from=icalone
UID:646954_activitytime@eventellus.com
TRANSP:OPAQUE
END:VEVENT


END:VCALENDAR
