

BEGIN:VCALENDAR
PRODID:-//snudd.se// event //EN
VERSION:2.0
lika<br>
    
BEGIN:VEVENT

DTSTART:20120422T140000Z
DTEND:20120422T140200Z
SUMMARY;ENCODING=QUOTED-PRINTABLE:GAIS - IFK Norrk=F6ping FK
URL:http://eventellus.com/event.asp?intActivityId=320649&intActivityTimeId=647086&from=icalone
LOCATION;ENCODING=QUOTED-PRINTABLE:Sweden->G=F6teborg->Gamla Ullevi
DESCRIPTION:http://eventellus.com/event.asp?intActivityId=320649&intActivityTimeId=647086&from=icalone
UID:647086_activitytime@eventellus.com
TRANSP:OPAQUE
END:VEVENT


END:VCALENDAR
