

BEGIN:VCALENDAR
PRODID:-//snudd.se// event //EN
VERSION:2.0
lika<br>
    
BEGIN:VEVENT

DTSTART:20120603T113000Z
DTEND:20120603T113200Z
SUMMARY;ENCODING=QUOTED-PRINTABLE:Stadsvandring i Gamla Stan
URL:http://eventellus.com/event.asp?intActivityId=322418&intActivityTimeId=648947&from=icalone
LOCATION;ENCODING=QUOTED-PRINTABLE:Sweden->Stockholm->Stortorget, Gamla Stan
DESCRIPTION:http://eventellus.com/event.asp?intActivityId=322418&intActivityTimeId=648947&from=icalone
UID:648947_activitytime@eventellus.com
TRANSP:OPAQUE
END:VEVENT


END:VCALENDAR
