

BEGIN:VCALENDAR
PRODID:-//snudd.se// event //EN
VERSION:2.0
lika<br>
    
BEGIN:VEVENT

DTSTART:20120701T150000Z
DTEND:20120701T150200Z
SUMMARY;ENCODING=QUOTED-PRINTABLE:LFC - Jitex BK
URL:http://eventellus.com/event.asp?intActivityId=322719&intActivityTimeId=649260&from=icalone
LOCATION;ENCODING=QUOTED-PRINTABLE:Sweden->Link=F6ping->Folkungavallen A
DESCRIPTION:http://eventellus.com/event.asp?intActivityId=322719&intActivityTimeId=649260&from=icalone
UID:649260_activitytime@eventellus.com
TRANSP:OPAQUE
END:VEVENT


END:VCALENDAR
