

BEGIN:VCALENDAR
PRODID:-//snudd.se// event //EN
VERSION:2.0
lika<br>
    
BEGIN:VEVENT

DTSTART:20120725T181500Z
DTEND:20120725T181700Z
SUMMARY;ENCODING=QUOTED-PRINTABLE:UEFA Champions League Helsingborgs IF - The New Saints FC (WAL)
URL:http://eventellus.com/event.asp?intActivityId=325626&intActivityTimeId=652254&from=icalone
LOCATION;ENCODING=QUOTED-PRINTABLE:Sweden->Helsingborg->Olympiaf=E4ltet
DESCRIPTION:http://eventellus.com/event.asp?intActivityId=325626&intActivityTimeId=652254&from=icalone
UID:652254_activitytime@eventellus.com
TRANSP:OPAQUE
END:VEVENT


END:VCALENDAR
