

BEGIN:VCALENDAR
PRODID:-//snudd.se// event //EN
VERSION:2.0
lika<br>
    
BEGIN:VEVENT

DTSTART:20190525T170000Z
DTEND:20190525T184500Z
SUMMARY;ENCODING=QUOTED-PRINTABLE:Helsingborgs IF - Falkenbergs FF
URL:http://eventellus.com/event.asp?intActivityId=328985&intActivityTimeId=655687&from=icalone
LOCATION;ENCODING=QUOTED-PRINTABLE:Sweden->Helsingborg->Olympia
DESCRIPTION:http://eventellus.com/event.asp?intActivityId=328985&intActivityTimeId=655687&from=icalone
UID:655687_activitytime@eventellus.com
TRANSP:OPAQUE
END:VEVENT


END:VCALENDAR
