

BEGIN:VCALENDAR
PRODID:-//snudd.se// event //EN
VERSION:2.0
lika<br>
    
BEGIN:VEVENT

DTSTART:20190630T140000Z
DTEND:20190630T154500Z
SUMMARY;ENCODING=QUOTED-PRINTABLE:AIK - Malm=F6 FF
URL:http://eventellus.com/event.asp?intActivityId=329003&intActivityTimeId=655705&from=icalone
LOCATION;ENCODING=QUOTED-PRINTABLE:Sweden->Solna->R=E5sunda
DESCRIPTION:http://eventellus.com/event.asp?intActivityId=329003&intActivityTimeId=655705&from=icalone
UID:655705_activitytime@eventellus.com
TRANSP:OPAQUE
END:VEVENT


END:VCALENDAR
