

BEGIN:VCALENDAR
PRODID:-//snudd.se// event //EN
VERSION:2.0
lika<br>
    
BEGIN:VEVENT

DTSTART:20190706T140000Z
DTEND:20190706T154500Z
SUMMARY;ENCODING=QUOTED-PRINTABLE:Kalmar FF - AIK
URL:http://eventellus.com/event.asp?intActivityId=329007&intActivityTimeId=655709&from=icalone
LOCATION;ENCODING=QUOTED-PRINTABLE:Sweden->Kalmar->Guldf=E5geln Arena
DESCRIPTION:http://eventellus.com/event.asp?intActivityId=329007&intActivityTimeId=655709&from=icalone
UID:655709_activitytime@eventellus.com
TRANSP:OPAQUE
END:VEVENT


END:VCALENDAR
