

BEGIN:VCALENDAR
PRODID:-//snudd.se// event //EN
VERSION:2.0
lika<br>
    
BEGIN:VEVENT

DTSTART:20190713T150000Z
DTEND:20190713T164500Z
SUMMARY;ENCODING=QUOTED-PRINTABLE:Falkenbergs FF - IFK G=F6teborg
URL:http://eventellus.com/event.asp?intActivityId=329015&intActivityTimeId=655717&from=icalone
LOCATION;ENCODING=QUOTED-PRINTABLE:Sweden->Ulricehamn->Falcon Alkoholfri Arena
DESCRIPTION:http://eventellus.com/event.asp?intActivityId=329015&intActivityTimeId=655717&from=icalone
UID:655717_activitytime@eventellus.com
TRANSP:OPAQUE
END:VEVENT


END:VCALENDAR
