

BEGIN:VCALENDAR
PRODID:-//snudd.se// event //EN
VERSION:2.0
lika<br>
    
BEGIN:VEVENT

DTSTART:20190727T150000Z
DTEND:20190727T164500Z
SUMMARY;ENCODING=QUOTED-PRINTABLE:Falkenbergs FF - GIF Sundsvall
URL:http://eventellus.com/event.asp?intActivityId=329031&intActivityTimeId=655733&from=icalone
LOCATION;ENCODING=QUOTED-PRINTABLE:Sweden->Ulricehamn->Falcon Alkoholfri Arena
DESCRIPTION:http://eventellus.com/event.asp?intActivityId=329031&intActivityTimeId=655733&from=icalone
UID:655733_activitytime@eventellus.com
TRANSP:OPAQUE
END:VEVENT


END:VCALENDAR
