

BEGIN:VCALENDAR
PRODID:-//snudd.se// event //EN
VERSION:2.0
lika<br>
    
BEGIN:VEVENT

DTSTART:20190728T140000Z
DTEND:20190728T154500Z
SUMMARY;ENCODING=QUOTED-PRINTABLE:=D6stersund - Malm=F6 FF
URL:http://eventellus.com/event.asp?intActivityId=329034&intActivityTimeId=655736&from=icalone
LOCATION;ENCODING=QUOTED-PRINTABLE:Sweden->=D6stersund->J=E4mtkraft Arena
DESCRIPTION:http://eventellus.com/event.asp?intActivityId=329034&intActivityTimeId=655736&from=icalone
UID:655736_activitytime@eventellus.com
TRANSP:OPAQUE
END:VEVENT


END:VCALENDAR
