

BEGIN:VCALENDAR
PRODID:-//snudd.se// event //EN
VERSION:2.0
lika<br>
    
BEGIN:VEVENT

DTSTART:20190811T140000Z
DTEND:20190811T154500Z
SUMMARY;ENCODING=QUOTED-PRINTABLE:BK H=E4cken - Malm=F6 FF
URL:http://eventellus.com/event.asp?intActivityId=329047&intActivityTimeId=655749&from=icalone
LOCATION;ENCODING=QUOTED-PRINTABLE:Sweden->Ulricehamn->Bravida Arena
DESCRIPTION:http://eventellus.com/event.asp?intActivityId=329047&intActivityTimeId=655749&from=icalone
UID:655749_activitytime@eventellus.com
TRANSP:OPAQUE
END:VEVENT


END:VCALENDAR
