

BEGIN:VCALENDAR
PRODID:-//snudd.se// event //EN
VERSION:2.0
lika<br>
    
BEGIN:VEVENT

DTSTART:20190818T140000Z
DTEND:20190818T154500Z
SUMMARY;ENCODING=QUOTED-PRINTABLE:=D6rebro - BK H=E4cken
URL:http://eventellus.com/event.asp?intActivityId=329054&intActivityTimeId=655756&from=icalone
LOCATION;ENCODING=QUOTED-PRINTABLE:Sweden->=D6rebro->Behrn Arena
DESCRIPTION:http://eventellus.com/event.asp?intActivityId=329054&intActivityTimeId=655756&from=icalone
UID:655756_activitytime@eventellus.com
TRANSP:OPAQUE
END:VEVENT


END:VCALENDAR
