

BEGIN:VCALENDAR
PRODID:-//snudd.se// event //EN
VERSION:2.0
lika<br>
    
BEGIN:VEVENT

DTSTART:20190825T140000Z
DTEND:20190825T154500Z
SUMMARY;ENCODING=QUOTED-PRINTABLE:Athletic Eskilstuna - BK H=E4cken
URL:http://eventellus.com/event.asp?intActivityId=329064&intActivityTimeId=655766&from=icalone
LOCATION;ENCODING=QUOTED-PRINTABLE:Sweden->Sollentuna->Sollentunavallen
DESCRIPTION:http://eventellus.com/event.asp?intActivityId=329064&intActivityTimeId=655766&from=icalone
UID:655766_activitytime@eventellus.com
TRANSP:OPAQUE
END:VEVENT


END:VCALENDAR
