

BEGIN:VCALENDAR
PRODID:-//snudd.se// event //EN
VERSION:2.0
lika<br>
    
BEGIN:VEVENT

DTSTART:20190830T180000Z
DTEND:20190830T194500Z
SUMMARY;ENCODING=QUOTED-PRINTABLE:Helsingborgs IF - =D6stersund
URL:http://eventellus.com/event.asp?intActivityId=329069&intActivityTimeId=655771&from=icalone
LOCATION;ENCODING=QUOTED-PRINTABLE:Sweden->Helsingborg->Olympia
DESCRIPTION:http://eventellus.com/event.asp?intActivityId=329069&intActivityTimeId=655771&from=icalone
UID:655771_activitytime@eventellus.com
TRANSP:OPAQUE
END:VEVENT


END:VCALENDAR
