

BEGIN:VCALENDAR
PRODID:-//snudd.se// event //EN
VERSION:2.0
lika<br>
    
BEGIN:VEVENT

DTSTART:20190901T140000Z
DTEND:20190901T154500Z
SUMMARY;ENCODING=QUOTED-PRINTABLE:GIF Sundsvall - IFK G=F6teborg
URL:http://eventellus.com/event.asp?intActivityId=329072&intActivityTimeId=655774&from=icalone
LOCATION;ENCODING=QUOTED-PRINTABLE:Sweden->Ulricehamn->NP3 Arena
DESCRIPTION:http://eventellus.com/event.asp?intActivityId=329072&intActivityTimeId=655774&from=icalone
UID:655774_activitytime@eventellus.com
TRANSP:OPAQUE
END:VEVENT


END:VCALENDAR
