

BEGIN:VCALENDAR
PRODID:-//snudd.se// event //EN
VERSION:2.0
lika<br>
    
BEGIN:VEVENT

DTSTART:20190901T140000Z
DTEND:20190901T154500Z
SUMMARY;ENCODING=QUOTED-PRINTABLE:Kalmar FF - Malm=F6 FF
URL:http://eventellus.com/event.asp?intActivityId=329073&intActivityTimeId=655775&from=icalone
LOCATION;ENCODING=QUOTED-PRINTABLE:Sweden->Kalmar->Guldf=E5geln Arena
DESCRIPTION:http://eventellus.com/event.asp?intActivityId=329073&intActivityTimeId=655775&from=icalone
UID:655775_activitytime@eventellus.com
TRANSP:OPAQUE
END:VEVENT


END:VCALENDAR
