

BEGIN:VCALENDAR
PRODID:-//snudd.se// event //EN
VERSION:2.0
lika<br>
    
BEGIN:VEVENT

DTSTART:20190924T180000Z
DTEND:20190924T194500Z
SUMMARY;ENCODING=QUOTED-PRINTABLE:Kalmar FF - GIF Sundsvall
URL:http://eventellus.com/event.asp?intActivityId=329093&intActivityTimeId=655795&from=icalone
LOCATION;ENCODING=QUOTED-PRINTABLE:Sweden->Kalmar->Guldf=E5geln Arena
DESCRIPTION:http://eventellus.com/event.asp?intActivityId=329093&intActivityTimeId=655795&from=icalone
UID:655795_activitytime@eventellus.com
TRANSP:OPAQUE
END:VEVENT


END:VCALENDAR
