

BEGIN:VCALENDAR
PRODID:-//snudd.se// event //EN
VERSION:2.0
lika<br>
    
BEGIN:VEVENT

DTSTART:20191005T150000Z
DTEND:20191005T164500Z
SUMMARY;ENCODING=QUOTED-PRINTABLE:AIK - =D6rebro
URL:http://eventellus.com/event.asp?intActivityId=329109&intActivityTimeId=655811&from=icalone
LOCATION;ENCODING=QUOTED-PRINTABLE:Sweden->Solna->R=E5sunda
DESCRIPTION:http://eventellus.com/event.asp?intActivityId=329109&intActivityTimeId=655811&from=icalone
UID:655811_activitytime@eventellus.com
TRANSP:OPAQUE
END:VEVENT


END:VCALENDAR
