

BEGIN:VCALENDAR
PRODID:-//snudd.se// event //EN
VERSION:2.0
lika<br>
    
BEGIN:VEVENT

DTSTART:20191005T150000Z
DTEND:20191005T164500Z
SUMMARY;ENCODING=QUOTED-PRINTABLE:IK Sirius FK - Helsingborgs IF
URL:http://eventellus.com/event.asp?intActivityId=329110&intActivityTimeId=655812&from=icalone
LOCATION;ENCODING=QUOTED-PRINTABLE:Sweden->Uppsala->NCC Studenternas
DESCRIPTION:http://eventellus.com/event.asp?intActivityId=329110&intActivityTimeId=655812&from=icalone
UID:655812_activitytime@eventellus.com
TRANSP:OPAQUE
END:VEVENT


END:VCALENDAR
