

BEGIN:VCALENDAR
PRODID:-//snudd.se// event //EN
VERSION:2.0
lika<br>
    
BEGIN:VEVENT

DTSTART:20191006T140000Z
DTEND:20191006T154500Z
SUMMARY;ENCODING=QUOTED-PRINTABLE:Djurg=E5rden - Hammarby
URL:http://eventellus.com/event.asp?intActivityId=329112&intActivityTimeId=655814&from=icalone
LOCATION;ENCODING=QUOTED-PRINTABLE:Sweden->Ulricehamn->Tele2 Arena
DESCRIPTION:http://eventellus.com/event.asp?intActivityId=329112&intActivityTimeId=655814&from=icalone
UID:655814_activitytime@eventellus.com
TRANSP:OPAQUE
END:VEVENT


END:VCALENDAR
