

BEGIN:VCALENDAR
PRODID:-//snudd.se// event //EN
VERSION:2.0
lika<br>
    
BEGIN:VEVENT

DTSTART:20191006T140000Z
DTEND:20191006T154500Z
SUMMARY;ENCODING=QUOTED-PRINTABLE:BK H=E4cken - =D6stersund
URL:http://eventellus.com/event.asp?intActivityId=329113&intActivityTimeId=655815&from=icalone
LOCATION;ENCODING=QUOTED-PRINTABLE:Sweden->Ulricehamn->Bravida Arena
DESCRIPTION:http://eventellus.com/event.asp?intActivityId=329113&intActivityTimeId=655815&from=icalone
UID:655815_activitytime@eventellus.com
TRANSP:OPAQUE
END:VEVENT


END:VCALENDAR
