

BEGIN:VCALENDAR
PRODID:-//snudd.se// event //EN
VERSION:2.0
lika<br>
    
BEGIN:VEVENT

DTSTART:20191006T163000Z
DTEND:20191006T181500Z
SUMMARY;ENCODING=QUOTED-PRINTABLE:Malm=F6 FF - IFK G=F6teborg
URL:http://eventellus.com/event.asp?intActivityId=329115&intActivityTimeId=655817&from=icalone
LOCATION;ENCODING=QUOTED-PRINTABLE:Sweden->Karlskoga->Karlskoga Motorstadion
DESCRIPTION:http://eventellus.com/event.asp?intActivityId=329115&intActivityTimeId=655817&from=icalone
UID:655817_activitytime@eventellus.com
TRANSP:OPAQUE
END:VEVENT


END:VCALENDAR
