

BEGIN:VCALENDAR
PRODID:-//snudd.se// event //EN
VERSION:2.0
lika<br>
    
BEGIN:VEVENT

DTSTART:20191019T123000Z
DTEND:20191019T141500Z
SUMMARY;ENCODING=QUOTED-PRINTABLE:Helsingborgs IF - BK H=E4cken
URL:http://eventellus.com/event.asp?intActivityId=329117&intActivityTimeId=655819&from=icalone
LOCATION;ENCODING=QUOTED-PRINTABLE:Sweden->Helsingborg->Olympia
DESCRIPTION:http://eventellus.com/event.asp?intActivityId=329117&intActivityTimeId=655819&from=icalone
UID:655819_activitytime@eventellus.com
TRANSP:OPAQUE
END:VEVENT


END:VCALENDAR
