

BEGIN:VCALENDAR
PRODID:-//snudd.se// event //EN
VERSION:2.0
lika<br>
    
BEGIN:VEVENT

DTSTART:20191020T163000Z
DTEND:20191020T181500Z
SUMMARY;ENCODING=QUOTED-PRINTABLE:IFK Norrk=F6ping FK - Kalmar FF
URL:http://eventellus.com/event.asp?intActivityId=329121&intActivityTimeId=655823&from=icalone
LOCATION;ENCODING=QUOTED-PRINTABLE:Sweden->Ulricehamn->=D6stg=F6taporten
DESCRIPTION:http://eventellus.com/event.asp?intActivityId=329121&intActivityTimeId=655823&from=icalone
UID:655823_activitytime@eventellus.com
TRANSP:OPAQUE
END:VEVENT


END:VCALENDAR
