

BEGIN:VCALENDAR
PRODID:-//snudd.se// event //EN
VERSION:2.0
lika<br>
    
BEGIN:VEVENT

DTSTART:20191021T180000Z
DTEND:20191021T194500Z
SUMMARY;ENCODING=QUOTED-PRINTABLE:IFK G=F6teborg - Djurg=E5rden
URL:http://eventellus.com/event.asp?intActivityId=329123&intActivityTimeId=655825&from=icalone
LOCATION;ENCODING=QUOTED-PRINTABLE:Sweden->G=F6teborg->Gamla Ullevi
DESCRIPTION:http://eventellus.com/event.asp?intActivityId=329123&intActivityTimeId=655825&from=icalone
UID:655825_activitytime@eventellus.com
TRANSP:OPAQUE
END:VEVENT


END:VCALENDAR
