

BEGIN:VCALENDAR
PRODID:-//snudd.se// event //EN
VERSION:2.0
lika<br>
    
BEGIN:VEVENT

DTSTART:20191027T140000Z
DTEND:20191027T154500Z
SUMMARY;ENCODING=QUOTED-PRINTABLE:Athletic Eskilstuna - IK Sirius FK
URL:http://eventellus.com/event.asp?intActivityId=329127&intActivityTimeId=655829&from=icalone
LOCATION;ENCODING=QUOTED-PRINTABLE:Sweden->Sollentuna->Sollentunavallen
DESCRIPTION:http://eventellus.com/event.asp?intActivityId=329127&intActivityTimeId=655829&from=icalone
UID:655829_activitytime@eventellus.com
TRANSP:OPAQUE
END:VEVENT


END:VCALENDAR
