

BEGIN:VCALENDAR
PRODID:-//snudd.se// event //EN
VERSION:2.0
lika<br>
    
BEGIN:VEVENT

DTSTART:20191102T120000Z
DTEND:20191102T134500Z
SUMMARY;ENCODING=QUOTED-PRINTABLE:Helsingborgs IF - IF Elfsborg
URL:http://eventellus.com/event.asp?intActivityId=329132&intActivityTimeId=655834&from=icalone
LOCATION;ENCODING=QUOTED-PRINTABLE:Sweden->Helsingborg->Olympia
DESCRIPTION:http://eventellus.com/event.asp?intActivityId=329132&intActivityTimeId=655834&from=icalone
UID:655834_activitytime@eventellus.com
TRANSP:OPAQUE
END:VEVENT


END:VCALENDAR
