

BEGIN:VCALENDAR
PRODID:-//snudd.se// event //EN
VERSION:2.0
lika<br>
    
BEGIN:VEVENT

DTSTART:20191102T120000Z
DTEND:20191102T134500Z
SUMMARY;ENCODING=QUOTED-PRINTABLE:Falkenbergs FF - Athletic Eskilstuna
URL:http://eventellus.com/event.asp?intActivityId=329134&intActivityTimeId=655836&from=icalone
LOCATION;ENCODING=QUOTED-PRINTABLE:Sweden->Ulricehamn->Falcon Alkoholfri Arena
DESCRIPTION:http://eventellus.com/event.asp?intActivityId=329134&intActivityTimeId=655836&from=icalone
UID:655836_activitytime@eventellus.com
TRANSP:OPAQUE
END:VEVENT


END:VCALENDAR
