

BEGIN:VCALENDAR
PRODID:-//snudd.se// event //EN
VERSION:2.0
lika<br>
    
BEGIN:VEVENT

DTSTART:20191102T120000Z
DTEND:20191102T134500Z
SUMMARY;ENCODING=QUOTED-PRINTABLE:IFK Norrk=F6ping FK - Djurg=E5rden
URL:http://eventellus.com/event.asp?intActivityId=329135&intActivityTimeId=655837&from=icalone
LOCATION;ENCODING=QUOTED-PRINTABLE:Sweden->Ulricehamn->=D6stg=F6taporten
DESCRIPTION:http://eventellus.com/event.asp?intActivityId=329135&intActivityTimeId=655837&from=icalone
UID:655837_activitytime@eventellus.com
TRANSP:OPAQUE
END:VEVENT


END:VCALENDAR
