

BEGIN:VCALENDAR
PRODID:-//snudd.se// event //EN
VERSION:2.0
lika<br>
    
BEGIN:VEVENT

DTSTART:20200404T140000Z
DTEND:20200404T154500Z
SUMMARY;ENCODING=QUOTED-PRINTABLE:Link=F6pings FC - KIF =D6rebro DFF
URL:http://eventellus.com/event.asp?intActivityId=329199&intActivityTimeId=655952&from=icalone
LOCATION;ENCODING=QUOTED-PRINTABLE:Sweden->Link=F6ping->Link=F6ping Arena
DESCRIPTION:http://eventellus.com/event.asp?intActivityId=329199&intActivityTimeId=655952&from=icalone
UID:655952_activitytime@eventellus.com
TRANSP:OPAQUE
END:VEVENT


END:VCALENDAR
