

BEGIN:VCALENDAR
PRODID:-//snudd.se// event //EN
VERSION:2.0
lika<br>
    
BEGIN:VEVENT

DTSTART:20200405T140000Z
DTEND:20200405T154500Z
SUMMARY;ENCODING=QUOTED-PRINTABLE:Kopparbergs/G=F6teborg FC - Vittsj=F6 GIK
URL:http://eventellus.com/event.asp?intActivityId=329202&intActivityTimeId=655955&from=icalone
LOCATION;ENCODING=QUOTED-PRINTABLE:Sweden->G=F6teborg->Valhalla 1 Konstgr=E4s
DESCRIPTION:http://eventellus.com/event.asp?intActivityId=329202&intActivityTimeId=655955&from=icalone
UID:655955_activitytime@eventellus.com
TRANSP:OPAQUE
END:VEVENT


END:VCALENDAR
