

BEGIN:VCALENDAR
PRODID:-//snudd.se// event //EN
VERSION:2.0
lika<br>
    
BEGIN:VEVENT

DTSTART:20200426T120000Z
DTEND:20200426T134500Z
SUMMARY;ENCODING=QUOTED-PRINTABLE:Ume=E5 IK FF - Vittsj=F6 GIK
URL:http://eventellus.com/event.asp?intActivityId=329211&intActivityTimeId=655964&from=icalone
LOCATION;ENCODING=QUOTED-PRINTABLE:Sweden->Ume=E5->Ume=E5 Energi Arena SOL
DESCRIPTION:http://eventellus.com/event.asp?intActivityId=329211&intActivityTimeId=655964&from=icalone
UID:655964_activitytime@eventellus.com
TRANSP:OPAQUE
END:VEVENT


END:VCALENDAR
