

BEGIN:VCALENDAR
PRODID:-//snudd.se// event //EN
VERSION:2.0
lika<br>
    
BEGIN:VEVENT

DTSTART:20200503T130000Z
DTEND:20200503T144500Z
SUMMARY;ENCODING=QUOTED-PRINTABLE:Vittsj=F6 GIK - Pite=E5 IF DFF
URL:http://eventellus.com/event.asp?intActivityId=329216&intActivityTimeId=655969&from=icalone
LOCATION;ENCODING=QUOTED-PRINTABLE:Sweden->H=E4ssleholm->Vittsj=F6 IP A-plan
DESCRIPTION:http://eventellus.com/event.asp?intActivityId=329216&intActivityTimeId=655969&from=icalone
UID:655969_activitytime@eventellus.com
TRANSP:OPAQUE
END:VEVENT


END:VCALENDAR
