

BEGIN:VCALENDAR
PRODID:-//snudd.se// event //EN
VERSION:2.0
lika<br>
    
BEGIN:VEVENT

DTSTART:20200504T180000Z
DTEND:20200504T194500Z
SUMMARY;ENCODING=QUOTED-PRINTABLE:KIF =D6rebro DFF - IK Uppsala Fotboll
URL:http://eventellus.com/event.asp?intActivityId=329219&intActivityTimeId=655972&from=icalone
LOCATION;ENCODING=QUOTED-PRINTABLE:Sweden->=D6rebro->Behrn Arena
DESCRIPTION:http://eventellus.com/event.asp?intActivityId=329219&intActivityTimeId=655972&from=icalone
UID:655972_activitytime@eventellus.com
TRANSP:OPAQUE
END:VEVENT


END:VCALENDAR
