

BEGIN:VCALENDAR
PRODID:-//snudd.se// event //EN
VERSION:2.0
lika<br>
    
BEGIN:VEVENT

DTSTART:20200510T150000Z
DTEND:20200510T164500Z
SUMMARY;ENCODING=QUOTED-PRINTABLE:Eskilstuna United DFF - Ume=E5 IK FF
URL:http://eventellus.com/event.asp?intActivityId=329225&intActivityTimeId=655978&from=icalone
LOCATION;ENCODING=QUOTED-PRINTABLE:Sweden->Eskilstuna->Tunavallen
DESCRIPTION:http://eventellus.com/event.asp?intActivityId=329225&intActivityTimeId=655978&from=icalone
UID:655978_activitytime@eventellus.com
TRANSP:OPAQUE
END:VEVENT


END:VCALENDAR
