

BEGIN:VCALENDAR
PRODID:-//snudd.se// event //EN
VERSION:2.0
lika<br>
    
BEGIN:VEVENT

DTSTART:20200524T140000Z
DTEND:20200524T154500Z
SUMMARY;ENCODING=QUOTED-PRINTABLE:Kopparbergs/G=F6teborg FC - Eskilstuna United DFF
URL:http://eventellus.com/event.asp?intActivityId=329236&intActivityTimeId=655989&from=icalone
LOCATION;ENCODING=QUOTED-PRINTABLE:Sweden->G=F6teborg->Valhalla 1 Konstgr=E4s
DESCRIPTION:http://eventellus.com/event.asp?intActivityId=329236&intActivityTimeId=655989&from=icalone
UID:655989_activitytime@eventellus.com
TRANSP:OPAQUE
END:VEVENT


END:VCALENDAR
