

BEGIN:VCALENDAR
PRODID:-//snudd.se// event //EN
VERSION:2.0
lika<br>
    
BEGIN:VEVENT

DTSTART:20200531T140000Z
DTEND:20200531T154500Z
SUMMARY;ENCODING=QUOTED-PRINTABLE:Ume=E5 IK FF - Kopparbergs/G=F6teborg FC
URL:http://eventellus.com/event.asp?intActivityId=329242&intActivityTimeId=655995&from=icalone
LOCATION;ENCODING=QUOTED-PRINTABLE:Sweden->Ume=E5->Ume=E5 Energi Arena SOL
DESCRIPTION:http://eventellus.com/event.asp?intActivityId=329242&intActivityTimeId=655995&from=icalone
UID:655995_activitytime@eventellus.com
TRANSP:OPAQUE
END:VEVENT


END:VCALENDAR
