

BEGIN:VCALENDAR
PRODID:-//snudd.se// event //EN
VERSION:2.0
lika<br>
    
BEGIN:VEVENT

DTSTART:20200614T140000Z
DTEND:20200614T154500Z
SUMMARY;ENCODING=QUOTED-PRINTABLE:V=E4xj=F6 DFF - Djurg=E5rdens IF FF
URL:http://eventellus.com/event.asp?intActivityId=329250&intActivityTimeId=656003&from=icalone
LOCATION;ENCODING=QUOTED-PRINTABLE:Sweden->V=E4xj=F6->Myresj=F6hus Arena 1
DESCRIPTION:http://eventellus.com/event.asp?intActivityId=329250&intActivityTimeId=656003&from=icalone
UID:656003_activitytime@eventellus.com
TRANSP:OPAQUE
END:VEVENT


END:VCALENDAR
