

BEGIN:VCALENDAR
PRODID:-//snudd.se// event //EN
VERSION:2.0
lika<br>
    
BEGIN:VEVENT

DTSTART:20200621T140000Z
DTEND:20200621T154500Z
SUMMARY;ENCODING=QUOTED-PRINTABLE:Link=F6pings FC - Djurg=E5rdens IF FF
URL:http://eventellus.com/event.asp?intActivityId=329253&intActivityTimeId=656006&from=icalone
LOCATION;ENCODING=QUOTED-PRINTABLE:Sweden->Link=F6ping->Link=F6ping Arena
DESCRIPTION:http://eventellus.com/event.asp?intActivityId=329253&intActivityTimeId=656006&from=icalone
UID:656006_activitytime@eventellus.com
TRANSP:OPAQUE
END:VEVENT


END:VCALENDAR
