

BEGIN:VCALENDAR
PRODID:-//snudd.se// event //EN
VERSION:2.0
lika<br>
    
BEGIN:VEVENT

DTSTART:20200621T150000Z
DTEND:20200621T164500Z
SUMMARY;ENCODING=QUOTED-PRINTABLE:Eskilstuna United DFF - Pite=E5 IF DFF
URL:http://eventellus.com/event.asp?intActivityId=329255&intActivityTimeId=656008&from=icalone
LOCATION;ENCODING=QUOTED-PRINTABLE:Sweden->Eskilstuna->Tunavallen
DESCRIPTION:http://eventellus.com/event.asp?intActivityId=329255&intActivityTimeId=656008&from=icalone
UID:656008_activitytime@eventellus.com
TRANSP:OPAQUE
END:VEVENT


END:VCALENDAR
