

BEGIN:VCALENDAR
PRODID:-//snudd.se// event //EN
VERSION:2.0
lika<br>
    
BEGIN:VEVENT

DTSTART:20200705T120000Z
DTEND:20200705T134500Z
SUMMARY;ENCODING=QUOTED-PRINTABLE:FC Roseng=E5rd - Pite=E5 IF DFF
URL:http://eventellus.com/event.asp?intActivityId=329266&intActivityTimeId=656019&from=icalone
LOCATION;ENCODING=QUOTED-PRINTABLE:Sweden->Malm=F6->Malm=F6 IP
DESCRIPTION:http://eventellus.com/event.asp?intActivityId=329266&intActivityTimeId=656019&from=icalone
UID:656019_activitytime@eventellus.com
TRANSP:OPAQUE
END:VEVENT


END:VCALENDAR
